BEGIN:VCALENDAR
VERSION:2.0
PRODID:-//Durham Woodworking Club - ECPv6.15.20//NONSGML v1.0//EN
CALSCALE:GREGORIAN
METHOD:PUBLISH
X-WR-CALNAME:Durham Woodworking Club
X-ORIGINAL-URL:https://durhamwoodworkingclub.com
X-WR-CALDESC:Events for Durham Woodworking Club
REFRESH-INTERVAL;VALUE=DURATION:PT1H
X-Robots-Tag:noindex
X-PUBLISHED-TTL:PT1H
BEGIN:VTIMEZONE
TZID:America/Toronto
BEGIN:DAYLIGHT
TZOFFSETFROM:-0500
TZOFFSETTO:-0400
TZNAME:EDT
DTSTART:20250309T070000
END:DAYLIGHT
BEGIN:STANDARD
TZOFFSETFROM:-0400
TZOFFSETTO:-0500
TZNAME:EST
DTSTART:20251102T060000
END:STANDARD
BEGIN:DAYLIGHT
TZOFFSETFROM:-0500
TZOFFSETTO:-0400
TZNAME:EDT
DTSTART:20260308T070000
END:DAYLIGHT
BEGIN:STANDARD
TZOFFSETFROM:-0400
TZOFFSETTO:-0500
TZNAME:EST
DTSTART:20261101T060000
END:STANDARD
BEGIN:DAYLIGHT
TZOFFSETFROM:-0500
TZOFFSETTO:-0400
TZNAME:EDT
DTSTART:20270314T070000
END:DAYLIGHT
BEGIN:STANDARD
TZOFFSETFROM:-0400
TZOFFSETTO:-0500
TZNAME:EST
DTSTART:20271107T060000
END:STANDARD
END:VTIMEZONE
BEGIN:VEVENT
DTSTART;TZID=America/Toronto:20260420T183000
DTEND;TZID=America/Toronto:20260420T200000
DTSTAMP:20260424T193007
CREATED:20260306T132513Z
LAST-MODIFIED:20260408T130723Z
UID:5554-1776709800-1776715200@durhamwoodworkingclub.com
SUMMARY:Monday Meeting and 2x4 Challenge
DESCRIPTION:2×4 Challenge is open to 2026 members of the Durham Working Club.\n● An eligible entry is an item completed within the previous 12 calendar months.\n● Each participant can submit multiple entries – entries remain the property of the participant.\n● For all categories\, the entry must be made from a single\, 8-foot length of wood\, no more than 3 1/2” wide by 1 1/2” deep\n● The entry can be fastened using any glue\, screws\, nails and or dowels and finished using any substance commonly understood to be a wood finish or paint.\n● The use of functional hardware ie hinges and decorative knob allowed\n● Any project big or small is acceptable but preference be given to those using more of the 2 x 4.\n● Each participant will show their item and describe the project details including woods and finished used and any challenges with project.\n● Judges will rate originality\, craftsmanship\, effectiveness and best use of 2 x 4.\n\n\nCategories \n● Best turned project\n● Best scrollsaw project\n● Best non-turned project\n● Best use of SPF 2×4
URL:https://durhamwoodworkingclub.com/calendar/monday-meeting-37/
END:VEVENT
END:VCALENDAR